BEGIN:VCALENDAR
VERSION:2.0
PRODID:-//hacksw/handcal//NONSGML v1.0//EN
BEGIN:VEVENT
SUMMARY:Tournoi
UID:a468898a-bb95-4d4d-80de-8075018c9af9
DTSTART:20260312T090000Z
DTEND:20260312T130000Z
LOCATION:Localisation   
CATEGORIES:Sportif
STATUS:
DESCRIPTION:<p>Le tournoi organise par le club se deroulera dans la
 salle municipale.<br>Les prix seront remis en soiree.</p>
URL;VALUE=URI:https://billardclubbaignois.sportsregions.fr/evenements/2026/03/12/tournoi-2426747
END:VEVENT
END:VCALENDAR
